BEGIN:VCALENDAR
PRODID:-//Dr. Thomas Wagner\, TUM WWW & Online Services//myTUM Advanced Calendaring 0.1//DE
VERSION:2.0
METHOD:GET
BEGIN:VTIMEZONE
TZID:Europe/Berlin
BEGIN:STANDARD
DTSTART:20071028T010000
TZOFFSETTO:+0100
TZOFFSETFROM:+0000
TZNAME:CET
END:STANDARD
BEGIN:DAYLIGHT
TZOFFSETTO:+0200
TZOFFSETFROM:+0100
TZNAME:CEST
DTSTART:20080330T020000
END:DAYLIGHT
END:VTIMEZONE
BEGIN:VEVENT
SEQUENCE:1
TRANSP:OPAQUE
UID:termine_Event.2019-04-02.7019654523_portal.mytum.de
DTSTART;TZID=Europe/Berlin:20190509T100000
ORGANIZER;CN="Leonhard Franke":mailto:leonhard.franke@tum.de
DTSTAMP:20260421T222253
LAST-MODIFIED:20190402T144238
CATEGORIES:WORKSHOP
SUMMARY:Entscheidungen für meine Karriere treffen
DESCRIPTION:Am Ende des Studiums stehen Sie vor zahlreichen Entscheidungen: Nach dem Bachelorstudium in den Job einsteigen oder ein Masterstudium anschließen Promovieren - ja oder nein? Welches Jobangebot soll ich annehmen? Lernen Sie Kriterien und Möglichkeiten kennen, die Sie für Ihre Entscheidungsfindung nutzen können.
LOCATION:Campus München
CLASS:PUBLIC
URL;VALUE=URL:https://portal.mytum.de/termine/Event.2019-04-02.7019654523
CREATED:20190402T143356
DTEND;TZID=Europe/Berlin:20190509T160000
END:VEVENT
END:VCALENDAR
