BEGIN:VCALENDAR
PRODID:-//Dr. Thomas Wagner\, TUM WWW & Online Services//myTUM Advanced Calendaring 0.1//DE
VERSION:2.0
METHOD:GET
BEGIN:VTIMEZONE
TZID:Europe/Berlin
BEGIN:STANDARD
DTSTART:20071028T010000
TZOFFSETTO:+0100
TZOFFSETFROM:+0000
TZNAME:CET
END:STANDARD
BEGIN:DAYLIGHT
TZOFFSETTO:+0200
TZOFFSETFROM:+0100
TZNAME:CEST
DTSTART:20080330T020000
END:DAYLIGHT
END:VTIMEZONE
BEGIN:VEVENT
SEQUENCE:1
TRANSP:OPAQUE
UID:termine_Event.2019-04-02.3500443397_portal.mytum.de
DTSTART;TZID=Europe/Berlin:20190515T190000
ORGANIZER;CN="Leonhard Franke":mailto:leonhard.franke@tum.de
DTSTAMP:20260425T183842
LAST-MODIFIED:20190402T145424
CATEGORIES:VORTRAG
SUMMARY:New Work - Kompetenzen für die Arbeitswelt 4.0 - Vortrag
DESCRIPTION:Netzwerktreffen mit New Work Expertin Dr. Imme Witzel Die Digitalisierung verändert Unternehmen grundlegend und stellt neue Anforderungen an Mitarbeitende. Neue Technologien beeinflussen die individuelle Arbeitsgestaltung und die Zusammenarbeit. Welche Kompetenzen benötigen wir heute und zukünftig, um in der vom digitalen Wandel geprägten Arbeitswelt erfolgreich zu sein? Alumna Dr. Imme Witzel, Trainerin, Unternehmensberaterin und Leiterin des Bereichs „Arbeitswelt 4.0“ beim Zentrum Digitalisierung Bayern, gibt in Ihrem Vortrag „Kompetenzen und Werte in der Arbeitswelt von morgen“ einen Überblick über das Thema. Anschließend ist Raum zur Diskussion und zum Austausch im TUM Mentoring Netzwerk.
LOCATION:Campus München
CLASS:PUBLIC
URL;VALUE=URL:https://portal.mytum.de/termine/Event.2019-04-02.3500443397
CREATED:20190402T145424
DTEND;TZID=Europe/Berlin:20190515T210000
END:VEVENT
END:VCALENDAR
