BEGIN:VCALENDAR
PRODID:-//Dr. Thomas Wagner\, TUM WWW & Online Services//myTUM Advanced Calendaring 0.1//DE
VERSION:2.0
METHOD:GET
BEGIN:VTIMEZONE
TZID:Europe/Berlin
BEGIN:STANDARD
DTSTART:20071028T010000
TZOFFSETTO:+0100
TZOFFSETFROM:+0000
TZNAME:CET
END:STANDARD
BEGIN:DAYLIGHT
TZOFFSETTO:+0200
TZOFFSETFROM:+0100
TZNAME:CEST
DTSTART:20080330T020000
END:DAYLIGHT
END:VTIMEZONE
BEGIN:VEVENT
SEQUENCE:1
TRANSP:OPAQUE
UID:termine_Event.2019-01-15.5520981249_portal.mytum.de
DTSTART;TZID=Europe/Berlin:20190124T180000
ORGANIZER;CN="Cornelia Gütlich":mailto:cornelia.guetlich@tum.de
DTSTAMP:20260421T022500
LAST-MODIFIED:20190115T082708
CATEGORIES:VORTRAG
SUMMARY:Wertebildung im Religionsunterricht?! Herausforderungen und Perspektiven
DESCRIPTION:Am 10.12.2018 startet an der TUM School of Education in Zusammenarbeit mit dem Wertebündnis Bayern und der Siemens Stiftung eine Ringvorlesung zum Thema „Werte¬bildung“. Den Auftakt machte Herr Professor Dr. Dr. Johannes Wallacher, Präsident der Hochschule für Philosophie, München, mit dem Vortrag „Wertebildung als Charakterbildung. Von der Bedeutung der Persönlichkeitsentwicklung für die Lehrerbildung“. Nun folgt Herr Professor Dr. Konstantin Lindner von der Universität Bamberg mit einem Impulsvortrag zum Thema: Wertebildung im Religionsunterricht?! Herausforderungen und Perspektiven 
CONTACT:Cornelia Gütlich
LOCATION;ALTREP="https://portal.mytum.de/displayRoomMap?roomid=605@2907":605@2907, Hörsaal, Gebäude 2907
CLASS:PUBLIC
URL;VALUE=URL:https://portal.mytum.de/termine/Event.2019-01-15.5520981249
CREATED:20190115T082708
DTEND;TZID=Europe/Berlin:20190124T200000
END:VEVENT
END:VCALENDAR
