BEGIN:VCALENDAR
PRODID:-//Dr. Thomas Wagner\, TUM WWW & Online Services//myTUM Advanced Calendaring 0.1//DE
VERSION:2.0
METHOD:GET
BEGIN:VTIMEZONE
TZID:Europe/Berlin
BEGIN:STANDARD
DTSTART:20071028T010000
TZOFFSETTO:+0100
TZOFFSETFROM:+0000
TZNAME:CET
END:STANDARD
BEGIN:DAYLIGHT
TZOFFSETTO:+0200
TZOFFSETFROM:+0100
TZNAME:CEST
DTSTART:20080330T020000
END:DAYLIGHT
END:VTIMEZONE
BEGIN:VEVENT
SEQUENCE:1
TRANSP:OPAQUE
UID:termine_Event.2018-12-02.8646523116_portal.mytum.de
DTSTART;TZID=Europe/Berlin:20190126T180000
ORGANIZER;CN="Maximilian Gemsjäger":mailto:maximilian.gemsjaeger@tum.de
DTSTAMP:20260425T152915
LAST-MODIFIED:20181202T204208
CATEGORIES:SOCIAL EVENT
SUMMARY:Jahreskonzert der TUM JazzBand
DESCRIPTION:TUM JazzBand feat. Landesjugendjazzorchester Bayern Beginn 19.00 Uhr Einlass 18.00 Uhr
LOCATION:TUM-Stammgelände, Audimax (Werner-von-Siemens-Hörsaal)
CLASS:PUBLIC
URL;VALUE=URL:https://portal.mytum.de/termine/Event.2018-12-02.8646523116
CREATED:20181202T203736
DTEND;TZID=Europe/Berlin:20190126T223000
END:VEVENT
END:VCALENDAR
