BEGIN:VCALENDAR
PRODID:-//Dr. Thomas Wagner\, TUM WWW & Online Services//myTUM Advanced Calendaring 0.1//DE
VERSION:2.0
METHOD:GET
BEGIN:VTIMEZONE
TZID:Europe/Berlin
BEGIN:STANDARD
DTSTART:20071028T010000
TZOFFSETTO:+0100
TZOFFSETFROM:+0000
TZNAME:CET
END:STANDARD
BEGIN:DAYLIGHT
TZOFFSETTO:+0200
TZOFFSETFROM:+0100
TZNAME:CEST
DTSTART:20080330T020000
END:DAYLIGHT
END:VTIMEZONE
BEGIN:VEVENT
SEQUENCE:1
TRANSP:OPAQUE
UID:termine_Event.2018-10-18.3360129654_portal.mytum.de
DTSTART;TZID=Europe/Berlin:20190109T090000
ORGANIZER;CN="Leonhard Franke":mailto:leonhard.franke@tum.de
DTSTAMP:20260423T110835
LAST-MODIFIED:20181018T103926
CATEGORIES:WORKSHOP
SUMMARY:Application 4.0 - Essentials for getting hired - Workshop in English
DESCRIPTION:In this hands-on workshop you will learn to be successful with your job applications in Germany. We will look into the most important topics like career planning, job searching, new online recruiting methods, application documents and how to convince recruiters in a job interview. You will also learn self-marketing techniques that will enable you to present clear and individual USPs to differentiate you from other candidates.
LOCATION:Campus Garching
CLASS:PUBLIC
URL;VALUE=URL:https://portal.mytum.de/termine/Event.2018-10-18.3360129654
ATTACH;VALUE=URI:http://www.together.tum.de/events
CREATED:20181018T103926
DTEND;TZID=Europe/Berlin:20190109T130000
END:VEVENT
END:VCALENDAR
