BEGIN:VCALENDAR
PRODID:-//Dr. Thomas Wagner\, TUM WWW & Online Services//myTUM Advanced Calendaring 0.1//DE
VERSION:2.0
METHOD:GET
BEGIN:VTIMEZONE
TZID:Europe/Berlin
BEGIN:STANDARD
DTSTART:20071028T010000
TZOFFSETTO:+0100
TZOFFSETFROM:+0000
TZNAME:CET
END:STANDARD
BEGIN:DAYLIGHT
TZOFFSETTO:+0200
TZOFFSETFROM:+0100
TZNAME:CEST
DTSTART:20080330T020000
END:DAYLIGHT
END:VTIMEZONE
BEGIN:VEVENT
SEQUENCE:1
TRANSP:OPAQUE
UID:termine_Event.2018-10-17.7764547457_portal.mytum.de
DTSTART;TZID=Europe/Berlin:20181203T100000
ORGANIZER;CN="Leonhard Franke":mailto:leonhard.franke@tum.de
DTSTAMP:20260424T163148
LAST-MODIFIED:20181017T151729
SUMMARY:CV & Cover Letter in Germany - Webinar in English
DESCRIPTION:Would you like to apply for an internship or job in Germany? In this webinar you will get an overview of the documents needed for a successful application and how to prepare them.
LOCATION:Online
CLASS:PUBLIC
URL;VALUE=URL:https://portal.mytum.de/termine/Event.2018-10-17.7764547457
ATTACH;VALUE=URI:http://www.together.tum.de/events
CREATED:20181017T151729
DTEND;TZID=Europe/Berlin:20181203T110000
END:VEVENT
END:VCALENDAR
