BEGIN:VCALENDAR
PRODID:-//Dr. Thomas Wagner\, TUM WWW & Online Services//myTUM Advanced Calendaring 0.1//DE
VERSION:2.0
METHOD:GET
BEGIN:VTIMEZONE
TZID:Europe/Berlin
BEGIN:STANDARD
DTSTART:20071028T010000
TZOFFSETTO:+0100
TZOFFSETFROM:+0000
TZNAME:CET
END:STANDARD
BEGIN:DAYLIGHT
TZOFFSETTO:+0200
TZOFFSETFROM:+0100
TZNAME:CEST
DTSTART:20080330T020000
END:DAYLIGHT
END:VTIMEZONE
BEGIN:VEVENT
SEQUENCE:1
TRANSP:OPAQUE
UID:termine_Event.2018-10-17.3223892816_portal.mytum.de
DTSTART;TZID=Europe/Berlin:20181122T170000
ORGANIZER;CN="Leonhard Franke":mailto:leonhard.franke@tum.de
DTSTAMP:20260424T131456
LAST-MODIFIED:20181017T145149
SUMMARY:Job Interviews and CV in English-Speaking Countries - Webinar in English
DESCRIPTION:This webinar deals with the key principles for developing a professional CV regarding layout and style. For example, what are the differences between German and English CVs? In the section on interview questions, we‘ll develop effective strategies for answering typical questions. This is especially important when highlighting your skills and when talking about difficult topics such as weaknesses.
LOCATION:Online
CLASS:PUBLIC
URL;VALUE=URL:https://portal.mytum.de/termine/Event.2018-10-17.3223892816
ATTACH;VALUE=URI:http://www.together.tum.de/events
CREATED:20181017T145149
DTEND;TZID=Europe/Berlin:20181122T180000
END:VEVENT
END:VCALENDAR
