BEGIN:VCALENDAR
PRODID:-//Dr. Thomas Wagner\, TUM WWW & Online Services//myTUM Advanced Calendaring 0.1//DE
VERSION:2.0
METHOD:GET
BEGIN:VTIMEZONE
TZID:Europe/Berlin
BEGIN:STANDARD
DTSTART:20071028T010000
TZOFFSETTO:+0100
TZOFFSETFROM:+0000
TZNAME:CET
END:STANDARD
BEGIN:DAYLIGHT
TZOFFSETTO:+0200
TZOFFSETFROM:+0100
TZNAME:CEST
DTSTART:20080330T020000
END:DAYLIGHT
END:VTIMEZONE
BEGIN:VEVENT
SEQUENCE:1
TRANSP:OPAQUE
UID:termine_Event.2018-10-16.4427591203_portal.mytum.de
DTSTART;TZID=Europe/Berlin:20181203T090000
ORGANIZER;CN="Claudia Sand":mailto:claudia.sand@tum.de
DTSTAMP:20260421T213127
LAST-MODIFIED:20181016T153411
CATEGORIES:TAGUNG
SUMMARY:IATUL Seminar: Research Skills and Information Literacy in the Workplace
DESCRIPTION:Information literacy in the workplace is a relatively new and increasingly important area of research in library science. Many libraries offer information literacy programmes in order to help students find, access and use literature for their studies and final papers. But to what extent does instruction in information literacy help people in their future employment?
CONTACT:Dr. Reiner Kallenborn, Dr. Caroline Leiß
LOCATION:Universitätsbibliothek, Arcisstraße 21, Raum 2180
CLASS:PUBLIC
URL;VALUE=URL:https://portal.mytum.de/termine/Event.2018-10-16.4427591203
CREATED:20181016T152949
DTEND;TZID=Europe/Berlin:20181205T180000
END:VEVENT
END:VCALENDAR
