BEGIN:VCALENDAR
PRODID:-//Dr. Thomas Wagner\, TUM WWW & Online Services//myTUM Advanced Calendaring 0.1//DE
VERSION:2.0
METHOD:GET
BEGIN:VTIMEZONE
TZID:Europe/Berlin
BEGIN:STANDARD
DTSTART:20071028T010000
TZOFFSETTO:+0100
TZOFFSETFROM:+0000
TZNAME:CET
END:STANDARD
BEGIN:DAYLIGHT
TZOFFSETTO:+0200
TZOFFSETFROM:+0100
TZNAME:CEST
DTSTART:20080330T020000
END:DAYLIGHT
END:VTIMEZONE
BEGIN:VEVENT
SEQUENCE:1
TRANSP:OPAQUE
UID:termine_Event.2018-09-07.1376937279_portal.mytum.de
DTSTART;TZID=Europe/Berlin:20181010T173000
ORGANIZER;CN="Hedwig Bäcker":mailto:hedwig.baecker@tum.de
DTSTAMP:20260420T012734
LAST-MODIFIED:20180907T135655
CATEGORIES:VORTRAG
SUMMARY:Feierabendführung durch die Teilbibliothek Stammgelände
DESCRIPTION:Bibliotheksführung Kurze Einführung in die Literaturrecherche
CONTACT:Hedwig Bäcker
LOCATION:Treffpunkt: München, Arcisstr. 21, 1. Stock, Foyer vor dem Eingang der Teilbibliothek Stammgelände
RRULE:FREQ=WEEKLY;INTERVAL=2;UNTIL=20181221T235959
CLASS:PUBLIC
URL;VALUE=URL:https://portal.mytum.de/termine/Event.2018-09-07.1376937279
CREATED:20180907T123332
DTEND;TZID=Europe/Berlin:20181010T190000
END:VEVENT
END:VCALENDAR
