BEGIN:VCALENDAR
PRODID:-//Dr. Thomas Wagner\, TUM WWW & Online Services//myTUM Advanced Calendaring 0.1//DE
VERSION:2.0
METHOD:GET
BEGIN:VTIMEZONE
TZID:Europe/Berlin
BEGIN:STANDARD
DTSTART:20071028T010000
TZOFFSETTO:+0100
TZOFFSETFROM:+0000
TZNAME:CET
END:STANDARD
BEGIN:DAYLIGHT
TZOFFSETTO:+0200
TZOFFSETFROM:+0100
TZNAME:CEST
DTSTART:20080330T020000
END:DAYLIGHT
END:VTIMEZONE
BEGIN:VEVENT
SEQUENCE:1
TRANSP:OPAQUE
UID:termine_Event.2018-06-07.6932462161_portal.mytum.de
DTSTART;TZID=Europe/Berlin:20180607T120000
ORGANIZER;CN="Christin Seidel, seidel@zv.tum.de":mailto:seidel@zv.tum.de
DTSTAMP:20260423T132938
LAST-MODIFIED:20180607T173854
CATEGORIES:TAGUNG
SUMMARY:Global University, Society, Labor Market – How to Shape Tomorrow's Talents
DESCRIPTION:This symposium constitutes a key event of TUM's 150th Anniversary celebrations, thus providing a platform for exchange and networking between the leadership of the world’s top universities and stakeholders from academia and industry. We will discuss how each and every of those entities can foster the talents of tomorrow and how these different players interact with each other to address the ‘Grand Societal Challenges’. Furthermore, we will tackle the question of how academia and industry interact, and which key factors create success in the diversity of scientific and business cultures.
CONTACT:Christin Seidel, seidel@zv.tum.de
LOCATION:Theodor Fischer Auditorium, Munich City Campus
CLASS:PUBLIC
URL;VALUE=URL:https://portal.mytum.de/termine/Event.2018-06-07.6932462161
ATTACH;VALUE=URI:http://www.ias.tum.de/internationalsymposium2018/
CREATED:20180607T154700
DTEND;TZID=Europe/Berlin:20180608T123000
END:VEVENT
END:VCALENDAR
