BEGIN:VCALENDAR
PRODID:-//Dr. Thomas Wagner\, TUM WWW & Online Services//myTUM Advanced Calendaring 0.1//DE
VERSION:2.0
METHOD:GET
BEGIN:VTIMEZONE
TZID:Europe/Berlin
BEGIN:STANDARD
DTSTART:20071028T010000
TZOFFSETTO:+0100
TZOFFSETFROM:+0000
TZNAME:CET
END:STANDARD
BEGIN:DAYLIGHT
TZOFFSETTO:+0200
TZOFFSETFROM:+0100
TZNAME:CEST
DTSTART:20080330T020000
END:DAYLIGHT
END:VTIMEZONE
BEGIN:VEVENT
SEQUENCE:1
TRANSP:OPAQUE
UID:termine_Event.2018-05-15.6611305977_portal.mytum.de
DTSTART;TZID=Europe/Berlin:20180524T163000
ORGANIZER;CN="Martina Söll":mailto:martina.soell@tum.de
DTSTAMP:20260425T030703
LAST-MODIFIED:20180516T163737
CATEGORIES:VORTRAG
SUMMARY:Co-creation and the Future of Innovation in Europe (Kick-off of EU-H2020 Project “SCALINGS“  ) 
DESCRIPTION:How is innovation changing in Europe? Which role will co-creation and open innovation practices play in the future? How does innovation differ across countries, cultures, and technical domains? This event will bring together leading innovation experts from academia, industry, government, and civil society to discuss the future of innovation in Europe and the opportunities and challenges for including society in science and innovation. The event is the kick-off of the new multi-year EU flagship project “SCALINGS”, coordinated at TU Munich.
CONTACT:Prof. Dr. Sebastian Pfotenhauer
LOCATION:Vorhoelzer Forum
CLASS:PUBLIC
URL;VALUE=URL:https://portal.mytum.de/termine/Event.2018-05-15.6611305977
ATTACH;VALUE=URI:http://www.mcts.tum.de/scalings/
CREATED:20180515T174932
DTEND;TZID=Europe/Berlin:20180524T190000
END:VEVENT
END:VCALENDAR
