BEGIN:VCALENDAR
PRODID:-//Dr. Thomas Wagner\, TUM WWW & Online Services//myTUM Advanced Calendaring 0.1//DE
VERSION:2.0
METHOD:GET
BEGIN:VTIMEZONE
TZID:Europe/Berlin
BEGIN:STANDARD
DTSTART:20071028T010000
TZOFFSETTO:+0100
TZOFFSETFROM:+0000
TZNAME:CET
END:STANDARD
BEGIN:DAYLIGHT
TZOFFSETTO:+0200
TZOFFSETFROM:+0100
TZNAME:CEST
DTSTART:20080330T020000
END:DAYLIGHT
END:VTIMEZONE
BEGIN:VEVENT
SEQUENCE:1
TRANSP:OPAQUE
UID:termine_Event.2018-04-13.9964948049_portal.mytum.de
DTSTART;TZID=Europe/Berlin:20180709T100000
ORGANIZER;CN="Adem Ergunalp":mailto:ergunalp@tum.de
DTSTAMP:20260421T050215
LAST-MODIFIED:20180413T143214
CATEGORIES:WORKSHOP
SUMMARY:Assessment Center Training - Workshop
DESCRIPTION:Das Assessment-Center (AC) ist ein weit verbreitetes Instrument der Personalauswahl. Dieses Verfahren dient dazu, Bewerberinnen und Bewerber nach Kriterien wie Persönlichkeit, Teamfähigkeit, Entscheidungsfähigkeit etc. auszuwählen. In diesem Training können Sie sich mit diesem Thema unter realitätsnahen Bedingungen vertraut machen. 
LOCATION:Campus München
CLASS:PUBLIC
URL;VALUE=URL:https://portal.mytum.de/termine/Event.2018-04-13.9964948049
CREATED:20180413T143214
DTEND;TZID=Europe/Berlin:20180709T170000
END:VEVENT
END:VCALENDAR
