BEGIN:VCALENDAR
PRODID:-//Dr. Thomas Wagner\, TUM WWW & Online Services//myTUM Advanced Calendaring 0.1//DE
VERSION:2.0
METHOD:GET
BEGIN:VTIMEZONE
TZID:Europe/Berlin
BEGIN:STANDARD
DTSTART:20071028T010000
TZOFFSETTO:+0100
TZOFFSETFROM:+0000
TZNAME:CET
END:STANDARD
BEGIN:DAYLIGHT
TZOFFSETTO:+0200
TZOFFSETFROM:+0100
TZNAME:CEST
DTSTART:20080330T020000
END:DAYLIGHT
END:VTIMEZONE
BEGIN:VEVENT
SEQUENCE:1
TRANSP:OPAQUE
UID:termine_Event.2018-04-13.4352779264_portal.mytum.de
DTSTART;TZID=Europe/Berlin:20180706T100000
ORGANIZER;CN="Adem Ergunalp":mailto:ergunalp@tum.de
DTSTAMP:20260422T170226
LAST-MODIFIED:20180413T142024
SUMMARY:Die Promotionszeit sinnvoll planen - Webinar
DESCRIPTION:In diesem Webinar erfahren Sie, wie Sie die verschiedenen Phasen der Promotion nutzen, um den folgenden Karriereweg in der Wirtschaft bestmöglich vorzubereiten. Wann und wo lassen sich am effektivsten Kontakte für den späteren Berufseinstieg knüpfen? Mit welchen Aufgabengebieten sichern Sie sich Pluspunkte für den Lebenslauf?
LOCATION:Online
CLASS:PUBLIC
URL;VALUE=URL:https://portal.mytum.de/termine/Event.2018-04-13.4352779264
CREATED:20180413T142024
DTEND;TZID=Europe/Berlin:20180706T110000
END:VEVENT
END:VCALENDAR
