BEGIN:VCALENDAR
PRODID:-//Dr. Thomas Wagner\, TUM WWW & Online Services//myTUM Advanced Calendaring 0.1//DE
VERSION:2.0
METHOD:GET
BEGIN:VTIMEZONE
TZID:Europe/Berlin
BEGIN:STANDARD
DTSTART:20071028T010000
TZOFFSETTO:+0100
TZOFFSETFROM:+0000
TZNAME:CET
END:STANDARD
BEGIN:DAYLIGHT
TZOFFSETTO:+0200
TZOFFSETFROM:+0100
TZNAME:CEST
DTSTART:20080330T020000
END:DAYLIGHT
END:VTIMEZONE
BEGIN:VEVENT
SEQUENCE:1
TRANSP:OPAQUE
UID:termine_Event.2018-04-13.4003873110_portal.mytum.de
DTSTART;TZID=Europe/Berlin:20180620T180000
ORGANIZER;CN="Adem Ergunalp":mailto:ergunalp@tum.de
DTSTAMP:20260420T103416
LAST-MODIFIED:20180413T135134
SUMMARY:Job Perspectives for International Students in Germany - Webinar in English
DESCRIPTION:You are working towards your TUM degree and are thinking about starting yourcareer in Germany? Gathering information about the German job market is now key: What options do you have? How do you successfully land a job? In this series, we introduce you to international TUM alumni who have been working in Germany for a couple of years. They will join us via life-video to present their job and career path and answer any questions you may have.
LOCATION:Online
CLASS:PUBLIC
URL;VALUE=URL:https://portal.mytum.de/termine/Event.2018-04-13.4003873110
CREATED:20180413T135134
DTEND;TZID=Europe/Berlin:20180620T190000
END:VEVENT
END:VCALENDAR
