BEGIN:VCALENDAR
PRODID:-//Dr. Thomas Wagner\, TUM WWW & Online Services//myTUM Advanced Calendaring 0.1//DE
VERSION:2.0
METHOD:GET
BEGIN:VTIMEZONE
TZID:Europe/Berlin
BEGIN:STANDARD
DTSTART:20071028T010000
TZOFFSETTO:+0100
TZOFFSETFROM:+0000
TZNAME:CET
END:STANDARD
BEGIN:DAYLIGHT
TZOFFSETTO:+0200
TZOFFSETFROM:+0100
TZNAME:CEST
DTSTART:20080330T020000
END:DAYLIGHT
END:VTIMEZONE
BEGIN:VEVENT
SEQUENCE:1
TRANSP:OPAQUE
UID:termine_Event.2018-03-14.4198560009_portal.mytum.de
DTSTART;TZID=Europe/Berlin:20180920T090000
ORGANIZER;CN="Sophia Martina Rath":mailto:sophia.rath@tum.de
DTSTAMP:20260424T102056
LAST-MODIFIED:20180424T093759
CATEGORIES:WORKSHOP
SUMMARY:12. Weihenstephaner Seminar für Wassertechnologie
DESCRIPTION:Die Arbeitsgruppe Wassertechnologie am Lehrstuhl für Lebensmittelchemie und molekulare Sensorik veranstaltet dieses Jahr bereits das 12. Weihenstephaner Seminar für Wassertechnologie am Wissenschaftszentrum Weihenstephan.
CONTACT:Dr. Karl Glas, Sophia Rath, Jana Weißer
LOCATION:Wissenschaftszentrum Weihenstephan, Maximus-von-Imhof-Forum 2
CLASS:PUBLIC
URL;VALUE=URL:https://portal.mytum.de/termine/Event.2018-03-14.4198560009
ATTACH;VALUE=URI:http://www.molekulare-sensorik.de/index.php?id=67
CREATED:20180314T164739
DTEND;TZID=Europe/Berlin:20180921T121500
END:VEVENT
END:VCALENDAR
