BEGIN:VCALENDAR
PRODID:-//Dr. Thomas Wagner\, TUM WWW & Online Services//myTUM Advanced Calendaring 0.1//DE
VERSION:2.0
METHOD:GET
BEGIN:VTIMEZONE
TZID:Europe/Berlin
BEGIN:STANDARD
DTSTART:20071028T010000
TZOFFSETTO:+0100
TZOFFSETFROM:+0000
TZNAME:CET
END:STANDARD
BEGIN:DAYLIGHT
TZOFFSETTO:+0200
TZOFFSETFROM:+0100
TZNAME:CEST
DTSTART:20080330T020000
END:DAYLIGHT
END:VTIMEZONE
BEGIN:VEVENT
SEQUENCE:1
TRANSP:OPAQUE
UID:termine_Event.2018-02-14.6733681398_portal.mytum.de
DTSTART;TZID=Europe/Berlin:20180313T093000
ORGANIZER;CN="Ana Dzhigovechki, familienservice@zv.tum.de, Tel. 089 / 289 22319":mailto:familienservice@zv.tum.de
DTSTAMP:20260419T172452
LAST-MODIFIED:20180214T101347
CATEGORIES:VORTRAG
SUMMARY:„Demenz in der Familie – erkennen und verstehen“ - Informationsvortrag des TUM-Familienservice in Garching
DESCRIPTION:Der TUM-Familienservice der Stabsstelle Chancengleichheit lädt Mitarbeiter/innen und Studierende der Universität herzlich ein, an folgendem Informationsvortrag teilzunehmen. Dieser findet in Zusammenarbeit mit dem TUM-Kooperationspartner im Bereich Pflege von Angehörigen - awo lifebalance am Dienstag, den 13.03.2018 in Garching statt. Der gleiche Vortrag wird auch an den TUM-Standorten in München (20.03.2018) und Freising (21.03.2018) angeboten.
CONTACT:Ana Dzhigovechki, familienservice@zv.tum.de, Tel. 089 / 289 22319
LOCATION:Garching, Fakultät Maschinenwesen, Boltzmannstr. 15, 1.OG, Raum MW 1050 (Johann-Bauschinger-Zeichensaal) 
CLASS:PUBLIC
URL;VALUE=URL:https://portal.mytum.de/termine/Event.2018-02-14.6733681398
CREATED:20180214T091312
DTEND;TZID=Europe/Berlin:20180313T113000
END:VEVENT
END:VCALENDAR
