BEGIN:VCALENDAR
PRODID:-//Dr. Thomas Wagner\, TUM WWW & Online Services//myTUM Advanced Calendaring 0.1//DE
VERSION:2.0
METHOD:GET
BEGIN:VTIMEZONE
TZID:Europe/Berlin
BEGIN:STANDARD
DTSTART:20071028T010000
TZOFFSETTO:+0100
TZOFFSETFROM:+0000
TZNAME:CET
END:STANDARD
BEGIN:DAYLIGHT
TZOFFSETTO:+0200
TZOFFSETFROM:+0100
TZNAME:CEST
DTSTART:20080330T020000
END:DAYLIGHT
END:VTIMEZONE
BEGIN:VEVENT
SEQUENCE:1
TRANSP:OPAQUE
UID:termine_Event.2017-12-01.9697492520_portal.mytum.de
DTSTART;TZID=Europe/Berlin:20171212T170000
ORGANIZER;CN="Maya Schmitt (maya.schmitt@tum.de)":mailto:maya.schmitt@tum.de
DTSTAMP:20260420T165340
LAST-MODIFIED:20171201T092800
CATEGORIES:VORTRAG
SUMMARY:Munich Colloquium - Human Futures and Future Humans: Governing Disruptive Technologies
DESCRIPTION:Powerful new technologies that are just around the corner - gene editing, autonomous vehicles, deep learning machines, for instance - promise to change the human future into one that is unimaginably swifter, smarter, more efficient, and freer from pain, disease, and early death than the present we currently inhabit. Less talked about are the consequences for future humans: what sorts of entities will we be when we are even more linked and networked, recorded in vast data systems, subjected to targeted biological manipulation, and dependent on thinking machines for much of our day to day activity? In this talk, I will review today's approaches to preserving the integrity of the human and consider how that concept might have meaning in the science fiction world that is spread out before us.
CONTACT:Maya Schmitt (maya.schmitt@tum.de)
LOCATION:Vorhoelzer Forum
CLASS:PUBLIC
URL;VALUE=URL:https://portal.mytum.de/termine/Event.2017-12-01.9697492520
CREATED:20171201T092644
DTEND;TZID=Europe/Berlin:20171212T190000
END:VEVENT
END:VCALENDAR
