BEGIN:VCALENDAR
PRODID:-//Dr. Thomas Wagner\, TUM WWW & Online Services//myTUM Advanced Calendaring 0.1//DE
VERSION:2.0
METHOD:GET
BEGIN:VTIMEZONE
TZID:Europe/Berlin
BEGIN:STANDARD
DTSTART:20071028T010000
TZOFFSETTO:+0100
TZOFFSETFROM:+0000
TZNAME:CET
END:STANDARD
BEGIN:DAYLIGHT
TZOFFSETTO:+0200
TZOFFSETFROM:+0100
TZNAME:CEST
DTSTART:20080330T020000
END:DAYLIGHT
END:VTIMEZONE
BEGIN:VEVENT
SEQUENCE:1
TRANSP:OPAQUE
UID:termine_Event.2017-11-30.5687350700_portal.mytum.de
DTSTART;TZID=Europe/Berlin:20180215T171500
ORGANIZER;CN="Petra Wick":mailto:petra.wick@tum.de
DTSTAMP:20260424T225710
LAST-MODIFIED:20171130T081953
CATEGORIES:VORTRAG
SUMMARY:"Facilitation of CO2 transport is a key player for efficient C3 photosynthesis.
CONTACT:Prof. Dr. Erwin Grill
LOCATION:Hörsaal 12, Biologikum, Weihenstephan
CLASS:PUBLIC
URL;VALUE=URL:https://portal.mytum.de/termine/Event.2017-11-30.5687350700
CREATED:20171130T081953
DTEND;TZID=Europe/Berlin:20180215T181500
END:VEVENT
END:VCALENDAR
