BEGIN:VCALENDAR
PRODID:-//Dr. Thomas Wagner\, TUM WWW & Online Services//myTUM Advanced Calendaring 0.1//DE
VERSION:2.0
METHOD:GET
BEGIN:VTIMEZONE
TZID:Europe/Berlin
BEGIN:STANDARD
DTSTART:20071028T010000
TZOFFSETTO:+0100
TZOFFSETFROM:+0000
TZNAME:CET
END:STANDARD
BEGIN:DAYLIGHT
TZOFFSETTO:+0200
TZOFFSETFROM:+0100
TZNAME:CEST
DTSTART:20080330T020000
END:DAYLIGHT
END:VTIMEZONE
BEGIN:VEVENT
SEQUENCE:1
TRANSP:OPAQUE
UID:termine_Event.2017-11-21.2923626549_portal.mytum.de
DTSTART;TZID=Europe/Berlin:20171129T130000
ORGANIZER;CN="Annette Sturm":mailto:annette.sturm@tum.de
DTSTAMP:20260425T025723
LAST-MODIFIED:20171121T092315
CATEGORIES:VORTRAG
SUMMARY:Scientists Meet Scientists – Wednesday Coffee Talk by Prof. Sherry Suyu (Observational Cosmology) on peeking around cosmic corners 
DESCRIPTION:Prof. Ernst Rank and the TUM-IAS team invite the scientists of TUM and their guests for coffee each Wednesday! Just come over to the TUM-IAS after lunch between 1:00 - 2:00 p.m. and have a coffee with us, meet other scientists and listen from time to time to a short talk (10-15 mins) on a recent major TUM publication or issue – aimed specifically at a non-expert audience. 
CONTACT:Annette Sturm
LOCATION:TUM-IAS Lichtenbergstraße 2 a, 85748 Garching
CLASS:PUBLIC
URL;VALUE=URL:https://portal.mytum.de/termine/Event.2017-11-21.2923626549
CREATED:20171121T092247
DTEND;TZID=Europe/Berlin:20171129T140000
END:VEVENT
END:VCALENDAR
