BEGIN:VCALENDAR
PRODID:-//Dr. Thomas Wagner\, TUM WWW & Online Services//myTUM Advanced Calendaring 0.1//DE
VERSION:2.0
METHOD:GET
BEGIN:VTIMEZONE
TZID:Europe/Berlin
BEGIN:STANDARD
DTSTART:20071028T010000
TZOFFSETTO:+0100
TZOFFSETFROM:+0000
TZNAME:CET
END:STANDARD
BEGIN:DAYLIGHT
TZOFFSETTO:+0200
TZOFFSETFROM:+0100
TZNAME:CEST
DTSTART:20080330T020000
END:DAYLIGHT
END:VTIMEZONE
BEGIN:VEVENT
SEQUENCE:1
TRANSP:OPAQUE
UID:termine_Event.2017-11-13.9059668035_portal.mytum.de
DTSTART;TZID=Europe/Berlin:20171122T173000
ORGANIZER;CN="Judit Tuschak":mailto:judit.tuschak@tum.de
DTSTAMP:20260425T125739
LAST-MODIFIED:20171113T093455
CATEGORIES:TAGUNG
SUMMARY:Weihenstephan Forum on Teaching and Research: From Rivalry to Symbiosis
DESCRIPTION:Too often it seems that teaching and research must compete with each other for resources. Yet are these really competing endeavours? The participants in our podium discussion will explore the possibility that teaching and research are complementary and necessary aspects of the central purpose of universities.
CONTACT:Dr. Judit Tuschak
LOCATION:Dekanatssaal Weihenstephan (Alte Akademie 8)
CLASS:PUBLIC
URL;VALUE=URL:https://portal.mytum.de/termine/Event.2017-11-13.9059668035
CREATED:20171113T092536
DTEND;TZID=Europe/Berlin:20171122T191500
END:VEVENT
END:VCALENDAR
