BEGIN:VCALENDAR
PRODID:-//Dr. Thomas Wagner\, TUM WWW & Online Services//myTUM Advanced Calendaring 0.1//DE
VERSION:2.0
METHOD:GET
BEGIN:VTIMEZONE
TZID:Europe/Berlin
BEGIN:STANDARD
DTSTART:20071028T010000
TZOFFSETTO:+0100
TZOFFSETFROM:+0000
TZNAME:CET
END:STANDARD
BEGIN:DAYLIGHT
TZOFFSETTO:+0200
TZOFFSETFROM:+0100
TZNAME:CEST
DTSTART:20080330T020000
END:DAYLIGHT
END:VTIMEZONE
BEGIN:VEVENT
SEQUENCE:1
TRANSP:OPAQUE
UID:termine_Event.2017-10-30.6313360711_portal.mytum.de
DTSTART;TZID=Europe/Berlin:20180202T100000
ORGANIZER;CN="katrin.schaechinger@tum.de":mailto:katrin.schaechinger@tum.de
DTSTAMP:20260419T231551
LAST-MODIFIED:20171030T154923
SUMMARY:Selbstpräsentation für den Jobeinstieg - Webinar
DESCRIPTION:Im Bewerbungsprozess ist es wichtig, spontan, überzeugend und vor allem prägnant vom eigenen Karriere- und Lebensweg berichten zu können – sei es nun im Vorstellungsgespräch, auf der Jobmesse oder beim Networking. In diesem Webinar lernen Sie die wesentlichen Techniken des „Storytelling“ zur Selbstpräsentation kennen und erhalten Tipps für einfach durchzuführende Übungen.
CONTACT:katrin.schaechinger@tum.de
LOCATION:Online
CLASS:PUBLIC
URL;VALUE=URL:https://portal.mytum.de/termine/Event.2017-10-30.6313360711
CREATED:20171030T154923
DTEND;TZID=Europe/Berlin:20180202T110000
END:VEVENT
END:VCALENDAR
