BEGIN:VCALENDAR
PRODID:-//Dr. Thomas Wagner\, TUM WWW & Online Services//myTUM Advanced Calendaring 0.1//DE
VERSION:2.0
METHOD:GET
BEGIN:VTIMEZONE
TZID:Europe/Berlin
BEGIN:STANDARD
DTSTART:20071028T010000
TZOFFSETTO:+0100
TZOFFSETFROM:+0000
TZNAME:CET
END:STANDARD
BEGIN:DAYLIGHT
TZOFFSETTO:+0200
TZOFFSETFROM:+0100
TZNAME:CEST
DTSTART:20080330T020000
END:DAYLIGHT
END:VTIMEZONE
BEGIN:VEVENT
SEQUENCE:1
TRANSP:OPAQUE
UID:termine_Event.2017-10-30.6276193250_portal.mytum.de
DTSTART;TZID=Europe/Berlin:20180118T170000
ORGANIZER;CN="katrin.schaechinger@tum.de":mailto:katrin.schaechinger@tum.de
DTSTAMP:20260421T140859
LAST-MODIFIED:20171030T152346
SUMMARY:Gehaltsverhandlung - Tipps und Strategien - Webinar
DESCRIPTION:Gerade zu Beginn des Berufslebens fällt es oft schwer, den eigenen Marktwert richtig einzuschätzen und sich bei der Gehaltsverhandlung souverän aufzustellen. Dieses Webinar gibt ihnen erste Einblicke und den Überblick über Einstiegsgehälter für Absolvierende. Sie erhalten Hinweise, wie Sie sich richtig einordnen können und welche Zusatzleistungen es zum Gehalt gibt.
CONTACT:katrin.schaechinger@tum.de
LOCATION:Online
CLASS:PUBLIC
URL;VALUE=URL:https://portal.mytum.de/termine/Event.2017-10-30.6276193250
CREATED:20171030T152346
DTEND;TZID=Europe/Berlin:20180118T180000
END:VEVENT
END:VCALENDAR
