BEGIN:VCALENDAR
PRODID:-//Dr. Thomas Wagner\, TUM WWW & Online Services//myTUM Advanced Calendaring 0.1//DE
VERSION:2.0
METHOD:GET
BEGIN:VTIMEZONE
TZID:Europe/Berlin
BEGIN:STANDARD
DTSTART:20071028T010000
TZOFFSETTO:+0100
TZOFFSETFROM:+0000
TZNAME:CET
END:STANDARD
BEGIN:DAYLIGHT
TZOFFSETTO:+0200
TZOFFSETFROM:+0100
TZNAME:CEST
DTSTART:20080330T020000
END:DAYLIGHT
END:VTIMEZONE
BEGIN:VEVENT
SEQUENCE:1
TRANSP:OPAQUE
UID:termine_Event.2017-10-30.4366690532_portal.mytum.de
DTSTART;TZID=Europe/Berlin:20180131T170000
ORGANIZER;CN="katrin.schaechinger@tum.de":mailto:katrin.schaechinger@tum.de
DTSTAMP:20260421T085141
LAST-MODIFIED:20171030T154721
SUMMARY:Networking and Finding the Right Position - Webinar in English
DESCRIPTION:One of the most efficient channels to find a good job is networking. In this webinar you will learn what real networking means and how to do it effectively. Furthermore you will learn the most important Do‘s and Don‘ts to follow in order to make your networkwork for you.
CONTACT:katrin.schaechinger@tum.de
LOCATION:Online
CLASS:PUBLIC
URL;VALUE=URL:https://portal.mytum.de/termine/Event.2017-10-30.4366690532
CREATED:20171030T154721
DTEND;TZID=Europe/Berlin:20180131T180000
END:VEVENT
END:VCALENDAR
