BEGIN:VCALENDAR
PRODID:-//Dr. Thomas Wagner\, TUM WWW & Online Services//myTUM Advanced Calendaring 0.1//DE
VERSION:2.0
METHOD:GET
BEGIN:VTIMEZONE
TZID:Europe/Berlin
BEGIN:STANDARD
DTSTART:20071028T010000
TZOFFSETTO:+0100
TZOFFSETFROM:+0000
TZNAME:CET
END:STANDARD
BEGIN:DAYLIGHT
TZOFFSETTO:+0200
TZOFFSETFROM:+0100
TZNAME:CEST
DTSTART:20080330T020000
END:DAYLIGHT
END:VTIMEZONE
BEGIN:VEVENT
SEQUENCE:1
TRANSP:OPAQUE
UID:termine_Event.2017-10-30.1522123200_portal.mytum.de
DTSTART;TZID=Europe/Berlin:20180109T170000
ORGANIZER;CN="katrin.schaechinger@tum.de":mailto:katrin.schaechinger@tum.de
DTSTAMP:20260425T012100
LAST-MODIFIED:20171030T150902
CATEGORIES:WORKSHOP
SUMMARY:Your Application in English-Speaking Countries - Workshop in English
DESCRIPTION:This seminar offers essential tips about the written elements of job applications in English-speaking countries. We will focus on how to draft and/or adapt a CV and cover letter for these countries.
CONTACT:katrin.schaechinger@tum.de
LOCATION:Campus Munich
CLASS:PUBLIC
URL;VALUE=URL:https://portal.mytum.de/termine/Event.2017-10-30.1522123200
CREATED:20171030T150902
DTEND;TZID=Europe/Berlin:20180109T183000
END:VEVENT
END:VCALENDAR
