BEGIN:VCALENDAR
PRODID:-//Dr. Thomas Wagner\, TUM WWW & Online Services//myTUM Advanced Calendaring 0.1//DE
VERSION:2.0
METHOD:GET
BEGIN:VTIMEZONE
TZID:Europe/Berlin
BEGIN:STANDARD
DTSTART:20071028T010000
TZOFFSETTO:+0100
TZOFFSETFROM:+0000
TZNAME:CET
END:STANDARD
BEGIN:DAYLIGHT
TZOFFSETTO:+0200
TZOFFSETFROM:+0100
TZNAME:CEST
DTSTART:20080330T020000
END:DAYLIGHT
END:VTIMEZONE
BEGIN:VEVENT
SEQUENCE:1
TRANSP:OPAQUE
UID:termine_Event.2017-10-27.7958583179_portal.mytum.de
DTSTART;TZID=Europe/Berlin:20171212T160000
ORGANIZER;CN="karin.schaechinger@tum.de":mailto:karin.schaechinger@tum.de
DTSTAMP:20260424T124118
LAST-MODIFIED:20171027T092219
SUMMARY:Die ersten 100 Tage im Job - Was Unternehmen erwarten - Webinar
DESCRIPTION:An den neuen Arbeitsplatz kommen Sie einerseits mit Ihren persönlichen Vorstellungen und stehen dort andererseits den Erwartungen von Vorgesetzten, Kolleginnen und Kollegen gegenüber. Lernen Sie wichtige Grundregeln und Strategien kennen, die es Ihnen ermöglichen, sich im neuen Arbeitsumfeld zurecht zu finden.
CONTACT:karin.schaechinger@tum.de
LOCATION:Online
CLASS:PUBLIC
URL;VALUE=URL:https://portal.mytum.de/termine/Event.2017-10-27.7958583179
CREATED:20171027T092219
DTEND;TZID=Europe/Berlin:20171212T170000
END:VEVENT
END:VCALENDAR
