BEGIN:VCALENDAR
PRODID:-//Dr. Thomas Wagner\, TUM WWW & Online Services//myTUM Advanced Calendaring 0.1//DE
VERSION:2.0
METHOD:GET
BEGIN:VTIMEZONE
TZID:Europe/Berlin
BEGIN:STANDARD
DTSTART:20071028T010000
TZOFFSETTO:+0100
TZOFFSETFROM:+0000
TZNAME:CET
END:STANDARD
BEGIN:DAYLIGHT
TZOFFSETTO:+0200
TZOFFSETFROM:+0100
TZNAME:CEST
DTSTART:20080330T020000
END:DAYLIGHT
END:VTIMEZONE
BEGIN:VEVENT
SEQUENCE:1
TRANSP:OPAQUE
UID:termine_Event.2017-10-27.6238036071_portal.mytum.de
DTSTART;TZID=Europe/Berlin:20171201T163000
ORGANIZER;CN="karin.schaechinger@tum.de":mailto:karin.schaechinger@tum.de
DTSTAMP:20260426T035147
LAST-MODIFIED:20171027T090344
CATEGORIES:VORTRAG
SUMMARY:Global Minds Zielland China - Bewerben und Arbeiten im Ausland - Tipps und Hinweise
DESCRIPTION:Vortrag mit Erfahrungsberichten In der Veranstaltungsreihe „Global Minds“ klären wir alle Fragen im Zusammenhang mit Bewerbungen für Jobs und Praktika im Ausland. Bei jedem Termin wird ein bestimmtes Zielland mit seinen spezifischen Rahmenbedingungen und dem zugehörigen Bewerbungsprozess vorgestellt.
CONTACT:karin.schaechinger@tum.de
LOCATION:Campus München, Raum 0170
CLASS:PUBLIC
URL;VALUE=URL:https://portal.mytum.de/termine/Event.2017-10-27.6238036071
CREATED:20171027T090344
DTEND;TZID=Europe/Berlin:20171201T180000
END:VEVENT
END:VCALENDAR
