BEGIN:VCALENDAR
PRODID:-//Dr. Thomas Wagner\, TUM WWW & Online Services//myTUM Advanced Calendaring 0.1//DE
VERSION:2.0
METHOD:GET
BEGIN:VTIMEZONE
TZID:Europe/Berlin
BEGIN:STANDARD
DTSTART:20071028T010000
TZOFFSETTO:+0100
TZOFFSETFROM:+0000
TZNAME:CET
END:STANDARD
BEGIN:DAYLIGHT
TZOFFSETTO:+0200
TZOFFSETFROM:+0100
TZNAME:CEST
DTSTART:20080330T020000
END:DAYLIGHT
END:VTIMEZONE
BEGIN:VEVENT
SEQUENCE:1
TRANSP:OPAQUE
UID:termine_Event.2017-10-27.5728852486_portal.mytum.de
DTSTART;TZID=Europe/Berlin:20171105T100000
ORGANIZER;CN="karin.schaechinger@tum.de":mailto:karin.schaechinger@tum.de
DTSTAMP:20260421T022400
LAST-MODIFIED:20171027T091613
CATEGORIES:WORKSHOP
SUMMARY:Assessment Center Training - Workshop
DESCRIPTION:Das Assessment-Center (AC) ist ein weit verbreitetes Instrument der Personalauswahl. Dieses Verfahren dient dazu, Bewerberinnen und Bewerber nach Kriterien wie Persönlichkeit, Teamfähigkeit, Entscheidungsfähigkeit etc. auszuwählen. In diesem Training können Sie sich mit diesem Thema unter realitätsnahen Bedingungen vertraut machen.
CONTACT:karin.schaechinger@tum.de
LOCATION:Campus Weihenstephan
CLASS:PUBLIC
URL;VALUE=URL:https://portal.mytum.de/termine/Event.2017-10-27.5728852486
CREATED:20171027T091613
DTEND;TZID=Europe/Berlin:20171105T170000
END:VEVENT
END:VCALENDAR
