BEGIN:VCALENDAR
PRODID:-//Dr. Thomas Wagner\, TUM WWW & Online Services//myTUM Advanced Calendaring 0.1//DE
VERSION:2.0
METHOD:GET
BEGIN:VTIMEZONE
TZID:Europe/Berlin
BEGIN:STANDARD
DTSTART:20071028T010000
TZOFFSETTO:+0100
TZOFFSETFROM:+0000
TZNAME:CET
END:STANDARD
BEGIN:DAYLIGHT
TZOFFSETTO:+0200
TZOFFSETFROM:+0100
TZNAME:CEST
DTSTART:20080330T020000
END:DAYLIGHT
END:VTIMEZONE
BEGIN:VEVENT
SEQUENCE:1
TRANSP:OPAQUE
UID:termine_Event.2017-10-16.8403105310_portal.mytum.de
DTSTART;TZID=Europe/Berlin:20171026T100000
ORGANIZER;CN="Leonhard Franke":mailto:leonhard.franke@tum.de
DTSTAMP:20260424T223849
LAST-MODIFIED:20171016T164853
SUMMARY:Lebensläufe individuell gestalten - Webinar
DESCRIPTION:Machen Sie sich mit den erforderlichen Inhalten eines Lebenslaufs vertraut und lernen Sie, wie Sie dabei Ihre Kompetenzen je nach Stellenausschreibung gut darstellen können. Im Anschluss haben Sie im Chat die Möglichkeit für weitergehende Nachfragen.
CONTACT:Katrin Schächinger
LOCATION:online
CLASS:PUBLIC
URL;VALUE=URL:https://portal.mytum.de/termine/Event.2017-10-16.8403105310
CREATED:20171016T164853
DTEND;TZID=Europe/Berlin:20171026T110000
END:VEVENT
END:VCALENDAR
