BEGIN:VCALENDAR
PRODID:-//Dr. Thomas Wagner\, TUM WWW & Online Services//myTUM Advanced Calendaring 0.1//DE
VERSION:2.0
METHOD:GET
BEGIN:VTIMEZONE
TZID:Europe/Berlin
BEGIN:STANDARD
DTSTART:20071028T010000
TZOFFSETTO:+0100
TZOFFSETFROM:+0000
TZNAME:CET
END:STANDARD
BEGIN:DAYLIGHT
TZOFFSETTO:+0200
TZOFFSETFROM:+0100
TZNAME:CEST
DTSTART:20080330T020000
END:DAYLIGHT
END:VTIMEZONE
BEGIN:VEVENT
SEQUENCE:1
TRANSP:OPAQUE
UID:termine_Event.2017-09-06.9948102197_portal.mytum.de
DTSTART;TZID=Europe/Berlin:20171017T170000
ORGANIZER;CN="Maya Schmitt":mailto:maya.schmitt@tum.de
DTSTAMP:20260422T223443
LAST-MODIFIED:20170906T085650
CATEGORIES:VORTRAG
SUMMARY:Making Knowledge about Risk
CONTACT:Maya Schmitt
LOCATION:Vorhoelzer Forum
CLASS:PUBLIC
URL;VALUE=URL:https://portal.mytum.de/termine/Event.2017-09-06.9948102197
CREATED:20170906T085650
DTEND;TZID=Europe/Berlin:20171017T190000
END:VEVENT
END:VCALENDAR
