BEGIN:VCALENDAR
PRODID:-//Dr. Thomas Wagner\, TUM WWW & Online Services//myTUM Advanced Calendaring 0.1//DE
VERSION:2.0
METHOD:GET
BEGIN:VTIMEZONE
TZID:Europe/Berlin
BEGIN:STANDARD
DTSTART:20071028T010000
TZOFFSETTO:+0100
TZOFFSETFROM:+0000
TZNAME:CET
END:STANDARD
BEGIN:DAYLIGHT
TZOFFSETTO:+0200
TZOFFSETFROM:+0100
TZNAME:CEST
DTSTART:20080330T020000
END:DAYLIGHT
END:VTIMEZONE
BEGIN:VEVENT
SEQUENCE:1
TRANSP:OPAQUE
UID:termine_Event.2017-08-22.2558576403_portal.mytum.de
DTSTART;TZID=Europe/Berlin:20170919T140000
ORGANIZER;CN="Chiu-Li Tseng;":mailto:chiu-li.tseng@tum.de
DTSTAMP:20260420T062413
LAST-MODIFIED:20170822T115943
CATEGORIES:VORTRAG
SUMMARY:Info-Veranstaltung zur Wohnungssuche
DESCRIPTION:Praktische Tipps – etwa zur Bewerbung um eine Wohnung und notwendige Formalia (Anmeldung beim Bürgerbüro, Visum). Bitte melden Sie sich an, denn die Plätze sind begrenzt. 
CONTACT:Chiu-Li Tseng
LOCATION;ALTREP="https://portal.mytum.de/displayRoomMap?roomid=0606@0506":0606@0506, HÖRSAAL ANST.O.EXBÜHNE, Gebäude 0506
CLASS:PUBLIC
URL;VALUE=URL:https://portal.mytum.de/termine/Event.2017-08-22.2558576403
ATTACH;VALUE=URI:http://portal.mytum.de/veranstaltungen/studienberatung/eventmanager.2017-06-19.7192505629/registration_start
CREATED:20170822T115524
DTEND;TZID=Europe/Berlin:20170919T160000
END:VEVENT
END:VCALENDAR
