BEGIN:VCALENDAR
PRODID:-//Dr. Thomas Wagner\, TUM WWW & Online Services//myTUM Advanced Calendaring 0.1//DE
VERSION:2.0
METHOD:GET
BEGIN:VTIMEZONE
TZID:Europe/Berlin
BEGIN:STANDARD
DTSTART:20071028T010000
TZOFFSETTO:+0100
TZOFFSETFROM:+0000
TZNAME:CET
END:STANDARD
BEGIN:DAYLIGHT
TZOFFSETTO:+0200
TZOFFSETFROM:+0100
TZNAME:CEST
DTSTART:20080330T020000
END:DAYLIGHT
END:VTIMEZONE
BEGIN:VEVENT
SEQUENCE:1
TRANSP:OPAQUE
UID:termine_Event.2017-08-21.6727543162_portal.mytum.de
DTSTART;TZID=Europe/Berlin:20171203T110000
ORGANIZER;CN="Gabriele Dieckmann":mailto:dieckmann@tum.de
DTSTAMP:20260424T113358
LAST-MODIFIED:20170821T113652
CATEGORIES:SOCIAL EVENT
SUMMARY:TUM-Adventsmatinee
LOCATION:Philharmonie am Gasteig
CLASS:PUBLIC
URL;VALUE=URL:https://portal.mytum.de/termine/Event.2017-08-21.6727543162
CREATED:20170821T113526
DTEND;TZID=Europe/Berlin:20171203T130000
END:VEVENT
END:VCALENDAR
