BEGIN:VCALENDAR
PRODID:-//Dr. Thomas Wagner\, TUM WWW & Online Services//myTUM Advanced Calendaring 0.1//DE
VERSION:2.0
METHOD:GET
BEGIN:VTIMEZONE
TZID:Europe/Berlin
BEGIN:STANDARD
DTSTART:20071028T010000
TZOFFSETTO:+0100
TZOFFSETFROM:+0000
TZNAME:CET
END:STANDARD
BEGIN:DAYLIGHT
TZOFFSETTO:+0200
TZOFFSETFROM:+0100
TZNAME:CEST
DTSTART:20080330T020000
END:DAYLIGHT
END:VTIMEZONE
BEGIN:VEVENT
SEQUENCE:1
TRANSP:OPAQUE
UID:termine_Event.2017-07-20.2788149639_portal.mytum.de
DTSTART;TZID=Europe/Berlin:20170720T180000
ORGANIZER;CN="Peter Finger":mailto:finger@tum.de
DTSTAMP:20260421T222313
LAST-MODIFIED:20170720T151442
CATEGORIES:VORTRAG
SUMMARY:Ringvorlesung Einblicke in Einwanderung: "Die Flüchtlingssituation im Spiegelbild der Medien" mit Aktham Suliman
DESCRIPTION:Der gebürtige Syrer ist Journalist und studierte an der FU Berlin zuerst Informatik und wechselte dann in die Kommunikationswissenschaften mit Schwerpunkt Publizistik sowie Islamwissenschaften und Politologie. Zwischen 1998 und 2002 war er als freier Mitarbeiter bei der Deutschen Welle und von 2002 bis 2012 als Korrespondent beim arabischen Nachrichtensender Al Jazeera tätig. Unter anderem ist er Autor des Buches Krieg und Chaos in Nahost - eine arabische Sicht! Moderation: Alexander Biederer, Matthias Neumeyer
CONTACT:Peter Finger
LOCATION;ALTREP="https://portal.mytum.de/displayRoomMap?roomid=2300@0503":2300@0503, FRIEDRICH VON THIERSCH HÖRSAAL, Gebäude 0503
CLASS:PUBLIC
URL;VALUE=URL:https://portal.mytum.de/termine/Event.2017-07-20.2788149639
CREATED:20170720T151304
DTEND;TZID=Europe/Berlin:20170720T193000
END:VEVENT
END:VCALENDAR
