BEGIN:VCALENDAR
PRODID:-//Dr. Thomas Wagner\, TUM WWW & Online Services//myTUM Advanced Calendaring 0.1//DE
VERSION:2.0
METHOD:GET
BEGIN:VTIMEZONE
TZID:Europe/Berlin
BEGIN:STANDARD
DTSTART:20071028T010000
TZOFFSETTO:+0100
TZOFFSETFROM:+0000
TZNAME:CET
END:STANDARD
BEGIN:DAYLIGHT
TZOFFSETTO:+0200
TZOFFSETFROM:+0100
TZNAME:CEST
DTSTART:20080330T020000
END:DAYLIGHT
END:VTIMEZONE
BEGIN:VEVENT
SEQUENCE:1
TRANSP:OPAQUE
UID:termine_Event.2017-05-31.1320695386_portal.mytum.de
DTSTART;TZID=Europe/Berlin:20170627T130000
ORGANIZER;CN="Frauke Donner":mailto:donner@tum.de
DTSTAMP:20260425T030723
LAST-MODIFIED:20170531T142808
CATEGORIES:VORTRAG
SUMMARY:Webinar "TUMonline Basics" (in English)
DESCRIPTION:In 15 minutes we show you our campus management system TUMonline: login and password, personal business card, account settings, e-mail address, access to applications, information and support.
CONTACT:Anne Witte
LOCATION:online
CLASS:PUBLIC
URL;VALUE=URL:https://portal.mytum.de/termine/Event.2017-05-31.1320695386
ATTACH;VALUE=URI:http://www.it.tum.de/en/webinars/
CREATED:20170531T142230
DTEND;TZID=Europe/Berlin:20170627T131500
END:VEVENT
END:VCALENDAR
