BEGIN:VCALENDAR
PRODID:-//Dr. Thomas Wagner\, TUM WWW & Online Services//myTUM Advanced Calendaring 0.1//DE
VERSION:2.0
METHOD:GET
BEGIN:VTIMEZONE
TZID:Europe/Berlin
BEGIN:STANDARD
DTSTART:20071028T010000
TZOFFSETTO:+0100
TZOFFSETFROM:+0000
TZNAME:CET
END:STANDARD
BEGIN:DAYLIGHT
TZOFFSETTO:+0200
TZOFFSETFROM:+0100
TZNAME:CEST
DTSTART:20080330T020000
END:DAYLIGHT
END:VTIMEZONE
BEGIN:VEVENT
SEQUENCE:1
TRANSP:OPAQUE
UID:termine_Event.2017-05-29.6489027881_portal.mytum.de
DTSTART;TZID=Europe/Berlin:20170629T100000
ORGANIZER;CN="Christine Beese":mailto:christine.beese@tum.de
DTSTAMP:20260423T132956
LAST-MODIFIED:20170529T101229
CATEGORIES:VORTRAG
SUMMARY:"Fluorescence Detection of Rare Circulating Cells in Vivo: Technology, Applications and Future Prospects"
LOCATION:Seminarraum am Institut für Wasserchemie und Lehrstuhl für Analytische Chemie und Wasserchemie der TU München, Marchioninistr. 17, Großhadern
CLASS:PUBLIC
URL;VALUE=URL:https://portal.mytum.de/termine/Event.2017-05-29.6489027881
CREATED:20170529T100936
DTEND;TZID=Europe/Berlin:20170629T120000
END:VEVENT
END:VCALENDAR
