BEGIN:VCALENDAR
PRODID:-//Dr. Thomas Wagner\, TUM WWW & Online Services//myTUM Advanced Calendaring 0.1//DE
VERSION:2.0
METHOD:GET
BEGIN:VTIMEZONE
TZID:Europe/Berlin
BEGIN:STANDARD
DTSTART:20071028T010000
TZOFFSETTO:+0100
TZOFFSETFROM:+0000
TZNAME:CET
END:STANDARD
BEGIN:DAYLIGHT
TZOFFSETTO:+0200
TZOFFSETFROM:+0100
TZNAME:CEST
DTSTART:20080330T020000
END:DAYLIGHT
END:VTIMEZONE
BEGIN:VEVENT
SEQUENCE:1
TRANSP:OPAQUE
UID:termine_Event.2017-04-21.3081256431_portal.mytum.de
DTSTART;TZID=Europe/Berlin:20170529T101500
ORGANIZER;CN="Daniel Maugg":mailto:daniel.maugg@tum.de
DTSTAMP:20260425T180525
LAST-MODIFIED:20170421T102034
CATEGORIES:VORTRAG
SUMMARY:Global Minds - Bewerben und Arbeiten im Ausland - Frankreich
DESCRIPTION:In der Veranstaltungsreihe „Global Minds“ klären wir alle Fragen im Zusammenhang mit Bewerbungen für Jobs und Praktika im Ausland. Bei jedem Termin wird ein bestimmtes Zielland mit seinen spezifischen Rahmenbedingungen und dem zugehörigen Bewerbungsprozess vorgestellt.
CONTACT:Katrin Schächinger
LOCATION:Campus Innenstadt
CLASS:PUBLIC
URL;VALUE=URL:https://portal.mytum.de/termine/Event.2017-04-21.3081256431
CREATED:20170421T101900
DTEND;TZID=Europe/Berlin:20170529T101500
END:VEVENT
END:VCALENDAR
