BEGIN:VCALENDAR
PRODID:-//Dr. Thomas Wagner\, TUM WWW & Online Services//myTUM Advanced Calendaring 0.1//DE
VERSION:2.0
METHOD:GET
BEGIN:VTIMEZONE
TZID:Europe/Berlin
BEGIN:STANDARD
DTSTART:20071028T010000
TZOFFSETTO:+0100
TZOFFSETFROM:+0000
TZNAME:CET
END:STANDARD
BEGIN:DAYLIGHT
TZOFFSETTO:+0200
TZOFFSETFROM:+0100
TZNAME:CEST
DTSTART:20080330T020000
END:DAYLIGHT
END:VTIMEZONE
BEGIN:VEVENT
SEQUENCE:1
TRANSP:OPAQUE
UID:termine_Event.2017-04-20.1365008948_portal.mytum.de
DTSTART;TZID=Europe/Berlin:20170719T180000
ORGANIZER;CN="Daniel Maugg":mailto:daniel.maugg@tum.de
DTSTAMP:20260423T143210
LAST-MODIFIED:20170420T193452
SUMMARY:Job Perspectives for Interational Students in Germany - Webinar in English
DESCRIPTION:You are working towards your TUM degree and are thinking about starting your career in Germany? Gathering information about the German job market is now key: What options do you have? How do you successfully land a job? In this series, we introduce you to international TUM alumni who have been working in Germany for a couple of years. They will join us via life-video to present their job and career path and answer any question you may have. 
CONTACT:Katrin Schächinger
LOCATION:online
CLASS:PUBLIC
URL;VALUE=URL:https://portal.mytum.de/termine/Event.2017-04-20.1365008948
CREATED:20170420T193452
DTEND;TZID=Europe/Berlin:20170719T190000
END:VEVENT
END:VCALENDAR
