BEGIN:VCALENDAR
PRODID:-//Dr. Thomas Wagner\, TUM WWW & Online Services//myTUM Advanced Calendaring 0.1//DE
VERSION:2.0
METHOD:GET
BEGIN:VTIMEZONE
TZID:Europe/Berlin
BEGIN:STANDARD
DTSTART:20071028T010000
TZOFFSETTO:+0100
TZOFFSETFROM:+0000
TZNAME:CET
END:STANDARD
BEGIN:DAYLIGHT
TZOFFSETTO:+0200
TZOFFSETFROM:+0100
TZNAME:CEST
DTSTART:20080330T020000
END:DAYLIGHT
END:VTIMEZONE
BEGIN:VEVENT
SEQUENCE:1
TRANSP:OPAQUE
UID:termine_Event.2017-04-19.4932769985_portal.mytum.de
DTSTART;TZID=Europe/Berlin:20170921T100000
ORGANIZER;CN="Daniel Maugg":mailto:daniel.maugg@tum.de
DTSTAMP:20260420T064213
LAST-MODIFIED:20170419T185243
SUMMARY:Lebensläufe individuell gestalten - Webinar
DESCRIPTION:Machen Sie sich mit den erforderlichen Inhalten eines Lebenslaufs vertraut und lernen Sie, wie Sie dabei Ihre Kompetenzen je nach Stellenausschreibung gut darstellen können.
CONTACT:Katrin Schächinger
LOCATION:online
CLASS:PUBLIC
URL;VALUE=URL:https://portal.mytum.de/termine/Event.2017-04-19.4932769985
CREATED:20170419T185243
DTEND;TZID=Europe/Berlin:20170921T110000
END:VEVENT
END:VCALENDAR
