BEGIN:VCALENDAR
PRODID:-//Dr. Thomas Wagner\, TUM WWW & Online Services//myTUM Advanced Calendaring 0.1//DE
VERSION:2.0
METHOD:GET
BEGIN:VTIMEZONE
TZID:Europe/Berlin
BEGIN:STANDARD
DTSTART:20071028T010000
TZOFFSETTO:+0100
TZOFFSETFROM:+0000
TZNAME:CET
END:STANDARD
BEGIN:DAYLIGHT
TZOFFSETTO:+0200
TZOFFSETFROM:+0100
TZNAME:CEST
DTSTART:20080330T020000
END:DAYLIGHT
END:VTIMEZONE
BEGIN:VEVENT
SEQUENCE:1
TRANSP:OPAQUE
UID:termine_Event.2017-03-30.6810225740_portal.mytum.de
DTSTART;TZID=Europe/Berlin:20170523T183000
ORGANIZER;CN="Maya Schmitt":mailto:maya.schmitt@tum.de
DTSTAMP:20260424T200934
LAST-MODIFIED:20170330T154148
CATEGORIES:VORTRAG
SUMMARY:The Postgenomic Condition: Ethics, Justice and Knowledge After the Genome
DESCRIPTION: 
CONTACT:Prof. Dr. Ruth Müller Assistant Professor for Science &amp; Technology Policy Munich Center for Technology in Society (MCTS) +49 (0)89 – 289 29214
LOCATION:Vorhoelzer Forum
CLASS:PUBLIC
URL;VALUE=URL:https://portal.mytum.de/termine/Event.2017-03-30.6810225740
CREATED:20170330T154148
DTEND;TZID=Europe/Berlin:20170523T203000
END:VEVENT
END:VCALENDAR
