BEGIN:VCALENDAR
PRODID:-//Dr. Thomas Wagner\, TUM WWW & Online Services//myTUM Advanced Calendaring 0.1//DE
VERSION:2.0
METHOD:GET
BEGIN:VTIMEZONE
TZID:Europe/Berlin
BEGIN:STANDARD
DTSTART:20071028T010000
TZOFFSETTO:+0100
TZOFFSETFROM:+0000
TZNAME:CET
END:STANDARD
BEGIN:DAYLIGHT
TZOFFSETTO:+0200
TZOFFSETFROM:+0100
TZNAME:CEST
DTSTART:20080330T020000
END:DAYLIGHT
END:VTIMEZONE
BEGIN:VEVENT
SEQUENCE:1
TRANSP:OPAQUE
UID:termine_Event.2017-03-28.1119536903_portal.mytum.de
DTSTART;TZID=Europe/Berlin:20170503T180000
ORGANIZER;CN="Kim Grasböck":mailto:kim.grasboeck@tum.de
DTSTAMP:20260423T173357
LAST-MODIFIED:20170328T144103
CATEGORIES:FORTBILDUNG
SUMMARY:Chancen und Risiken von Gesundheits-Apps (Neurologisches Kolloquium)
CONTACT:Frau Grasböck BA, Frau Süß 
LOCATION:Neuro-Kopf-Zentrum, Bibliothek, 4. OG
CLASS:PUBLIC
URL;VALUE=URL:https://portal.mytum.de/termine/Event.2017-03-28.1119536903
CREATED:20170328T142849
DTEND;TZID=Europe/Berlin:20170503T193000
END:VEVENT
END:VCALENDAR
