BEGIN:VCALENDAR
PRODID:-//Dr. Thomas Wagner\, TUM WWW & Online Services//myTUM Advanced Calendaring 0.1//DE
VERSION:2.0
METHOD:GET
BEGIN:VTIMEZONE
TZID:Europe/Berlin
BEGIN:STANDARD
DTSTART:20071028T010000
TZOFFSETTO:+0100
TZOFFSETFROM:+0000
TZNAME:CET
END:STANDARD
BEGIN:DAYLIGHT
TZOFFSETTO:+0200
TZOFFSETFROM:+0100
TZNAME:CEST
DTSTART:20080330T020000
END:DAYLIGHT
END:VTIMEZONE
BEGIN:VEVENT
SEQUENCE:1
TRANSP:OPAQUE
UID:termine_Event.2017-01-20.8386644167_portal.mytum.de
DTSTART;TZID=Europe/Berlin:20170214T170000
ORGANIZER;CN="Carolin Ahrendt":mailto:ahrendt@tum.de
DTSTAMP:20260424T114000
LAST-MODIFIED:20170120T142530
CATEGORIES:VORTRAG
SUMMARY:Vermögen richtig vererben - Vortrag zu Erbrecht und Testament
CONTACT:Carolin Ahrendt, Sabine Tittel
LOCATION:TUM-Stammgelände, Arcisstraße 21
CLASS:PUBLIC
URL;VALUE=URL:https://portal.mytum.de/termine/Event.2017-01-20.8386644167
CREATED:20170120T142414
DTEND;TZID=Europe/Berlin:20170214T183000
END:VEVENT
END:VCALENDAR
