BEGIN:VCALENDAR
PRODID:-//Dr. Thomas Wagner\, TUM WWW & Online Services//myTUM Advanced Calendaring 0.1//DE
VERSION:2.0
METHOD:GET
BEGIN:VTIMEZONE
TZID:Europe/Berlin
BEGIN:STANDARD
DTSTART:20071028T010000
TZOFFSETTO:+0100
TZOFFSETFROM:+0000
TZNAME:CET
END:STANDARD
BEGIN:DAYLIGHT
TZOFFSETTO:+0200
TZOFFSETFROM:+0100
TZNAME:CEST
DTSTART:20080330T020000
END:DAYLIGHT
END:VTIMEZONE
BEGIN:VEVENT
SEQUENCE:1
TRANSP:OPAQUE
UID:termine_Event.2017-01-20.5533363507_portal.mytum.de
DTSTART;TZID=Europe/Berlin:20170215T183000
ORGANIZER;CN="Xenia Priebe (x.priebe@lrz.tum.de)":mailto:x.priebe@lrz.tum.de
DTSTAMP:20260424T225438
LAST-MODIFIED:20170120T163414
CATEGORIES:VORTRAG
SUMMARY:Ringvorlesung "Buddies for Refugees"
DESCRIPTION:"Wiederaufbau und Masterplan für kriegszerstörte Krisenregionen" Die Auseinandersetzungen zwischen den unüberschaubar vielen Akteuren scheinen unlösbar. Trotzdem müssen Planungen für den Wiederaufbau für die Zeit nach Bomben und Zerstörung in Syrien und Irak frühzeitig beginnen. Welche politischen, sozialen, wirtschaftlichen und institutionellen Bedingungen müssen für einen erfolgreichen Wiederaufbau gegeben und beachtet werden? 
CONTACT:Xenia Priebe (x.priebe@lrz.tum.de)
LOCATION;ALTREP="https://portal.mytum.de/displayRoomMap?roomid=2770@0507":2770@0507, , Gebäude 0507
CLASS:PUBLIC
URL;VALUE=URL:https://portal.mytum.de/termine/Event.2017-01-20.5533363507
CREATED:20170120T163414
DTEND;TZID=Europe/Berlin:20170215T200000
END:VEVENT
END:VCALENDAR
