BEGIN:VCALENDAR
PRODID:-//Dr. Thomas Wagner\, TUM WWW & Online Services//myTUM Advanced Calendaring 0.1//DE
VERSION:2.0
METHOD:GET
BEGIN:VTIMEZONE
TZID:Europe/Berlin
BEGIN:STANDARD
DTSTART:20071028T010000
TZOFFSETTO:+0100
TZOFFSETFROM:+0000
TZNAME:CET
END:STANDARD
BEGIN:DAYLIGHT
TZOFFSETTO:+0200
TZOFFSETFROM:+0100
TZNAME:CEST
DTSTART:20080330T020000
END:DAYLIGHT
END:VTIMEZONE
BEGIN:VEVENT
SEQUENCE:1
TRANSP:OPAQUE
UID:termine_Event.2017-01-16.1536612697_portal.mytum.de
DTSTART;TZID=Europe/Berlin:20170201T200000
ORGANIZER;CN="Martin Schellerer":mailto:martin.schellerer@tum.de
DTSTAMP:20260420T230632
LAST-MODIFIED:20170116T182423
CATEGORIES:SOCIAL EVENT
SUMMARY:Showvorlesung „Das (neue) Ende aller Tage … – exotherm 7.0, Eine göttliche Komödie in 33 Szenen“
DESCRIPTION: 
CONTACT:Martin Schellerer
LOCATION:MW 0001, Gustav-Niemann-Hörsaal, Fakultät für Maschinenwesen
CLASS:PUBLIC
URL;VALUE=URL:https://portal.mytum.de/termine/Event.2017-01-16.1536612697
CREATED:20170116T181819
DTEND;TZID=Europe/Berlin:20170201T220000
END:VEVENT
END:VCALENDAR
