BEGIN:VCALENDAR
PRODID:-//Dr. Thomas Wagner\, TUM WWW & Online Services//myTUM Advanced Calendaring 0.1//DE
VERSION:2.0
METHOD:GET
BEGIN:VTIMEZONE
TZID:Europe/Berlin
BEGIN:STANDARD
DTSTART:20071028T010000
TZOFFSETTO:+0100
TZOFFSETFROM:+0000
TZNAME:CET
END:STANDARD
BEGIN:DAYLIGHT
TZOFFSETTO:+0200
TZOFFSETFROM:+0100
TZNAME:CEST
DTSTART:20080330T020000
END:DAYLIGHT
END:VTIMEZONE
BEGIN:VEVENT
SEQUENCE:1
TRANSP:OPAQUE
UID:termine_Event.2017-01-06.9883922967_portal.mytum.de
DTSTART;TZID=Europe/Berlin:20170112T183000
ORGANIZER;CN="Peter Finger":mailto:finger@tum.de
DTSTAMP:20260423T190142
LAST-MODIFIED:20170106T234146
CATEGORIES:VORTRAG
SUMMARY:Buddy for Refugees Ringvorlesung "Einblicke in Einwanderung" Teil 4: "Globale Migration und Elitemigration"
DESCRIPTION:Topaktuell . Toprednerin Am kommenden Donnerstag (12.01.17) ist die Direktorin der Bayerischen Akademie für politische Bildung und Professorin der Universität der Bundeswehr München zu Gast bei der TUM Ringvorlesung "Einblicke in Einwanderung" und spricht zum Thema Globale Migration und deren Wirkung, unter anderem auf die Elitemigration. Die Ringvorlesung wird von Mitgliedern der TUM: Junge Akademie und weiteren Engagierten aus der TUM angeboten.
CONTACT:Peter
LOCATION:Hochschule für Politik /TUM School of Governance, Richard Wagner Straße 1, 80333 München
CLASS:PUBLIC
URL;VALUE=URL:https://portal.mytum.de/termine/Event.2017-01-06.9883922967
CREATED:20170106T233211
DTEND;TZID=Europe/Berlin:20170112T200000
END:VEVENT
END:VCALENDAR
