BEGIN:VCALENDAR
PRODID:-//Dr. Thomas Wagner\, TUM WWW & Online Services//myTUM Advanced Calendaring 0.1//DE
VERSION:2.0
METHOD:GET
BEGIN:VTIMEZONE
TZID:Europe/Berlin
BEGIN:STANDARD
DTSTART:20071028T010000
TZOFFSETTO:+0100
TZOFFSETFROM:+0000
TZNAME:CET
END:STANDARD
BEGIN:DAYLIGHT
TZOFFSETTO:+0200
TZOFFSETFROM:+0100
TZNAME:CEST
DTSTART:20080330T020000
END:DAYLIGHT
END:VTIMEZONE
BEGIN:VEVENT
SEQUENCE:1
TRANSP:OPAQUE
UID:termine_Event.2017-01-05.8034038617_portal.mytum.de
DTSTART;TZID=Europe/Berlin:20170226T193000
ORGANIZER;CN="Thilo Asch":mailto:thilo.asch@tum.de
DTSTAMP:20260421T085131
LAST-MODIFIED:20170105T105138
CATEGORIES:SOCIAL EVENT
SUMMARY:"The Dream of Gerontius" von Edward Elgar
DESCRIPTION:Hochromantisch, gewaltig besetzt, selten aufgeführt: Für das Semesterabschlusskonzert Wintersemester 2016/2017 trägt der UniversitätsChor München Edward Elgars spätromantisches Oratorium „The Dream of Gerontius“ vor. Tickets bei: München Ticket online
LOCATION:Große Aula der Ludwig-Maximilians-Universität, Geschwister-Scholl-Platz 1
CLASS:PUBLIC
URL;VALUE=URL:https://portal.mytum.de/termine/Event.2017-01-05.8034038617
CREATED:20170105T104314
DTEND;TZID=Europe/Berlin:20170226T220000
END:VEVENT
END:VCALENDAR
