BEGIN:VCALENDAR
PRODID:-//Dr. Thomas Wagner\, TUM WWW & Online Services//myTUM Advanced Calendaring 0.1//DE
VERSION:2.0
METHOD:GET
BEGIN:VTIMEZONE
TZID:Europe/Berlin
BEGIN:STANDARD
DTSTART:20071028T010000
TZOFFSETTO:+0100
TZOFFSETFROM:+0000
TZNAME:CET
END:STANDARD
BEGIN:DAYLIGHT
TZOFFSETTO:+0200
TZOFFSETFROM:+0100
TZNAME:CEST
DTSTART:20080330T020000
END:DAYLIGHT
END:VTIMEZONE
BEGIN:VEVENT
SEQUENCE:1
TRANSP:OPAQUE
UID:termine_Event.2016-11-11.5272818955_portal.mytum.de
DTSTART;TZID=Europe/Berlin:20170208T170000
ORGANIZER;CN="Onurcan Gucukoglu":mailto:ga42mok@tum.de
DTSTAMP:20260423T011234
LAST-MODIFIED:20161111T131357
SUMMARY:Trends im Social Media Recruiting - Webinar	
DESCRIPTION:Online die richtigen Kontakte knüpfen und Profil zeigen hat immer größere Bedeutung im Bewerbungsprozess. Machen Sie sich mit Strategien vertraut, wie Personaler im Netz nach Informationen über Bewerberinnen und Bewerber suchen und wie Sie XING, Facebook und Co. effektiv für Ihre Bewerbung nutzen können. 
CONTACT:Katrin Schächinger
LOCATION:online 
CLASS:PUBLIC
URL;VALUE=URL:https://portal.mytum.de/termine/Event.2016-11-11.5272818955
CREATED:20161111T131357
DTEND;TZID=Europe/Berlin:20170208T180000
END:VEVENT
END:VCALENDAR
