BEGIN:VCALENDAR
PRODID:-//Dr. Thomas Wagner\, TUM WWW & Online Services//myTUM Advanced Calendaring 0.1//DE
VERSION:2.0
METHOD:GET
BEGIN:VTIMEZONE
TZID:Europe/Berlin
BEGIN:STANDARD
DTSTART:20071028T010000
TZOFFSETTO:+0100
TZOFFSETFROM:+0000
TZNAME:CET
END:STANDARD
BEGIN:DAYLIGHT
TZOFFSETTO:+0200
TZOFFSETFROM:+0100
TZNAME:CEST
DTSTART:20080330T020000
END:DAYLIGHT
END:VTIMEZONE
BEGIN:VEVENT
SEQUENCE:1
TRANSP:OPAQUE
UID:termine_Event.2016-11-11.1957979693_portal.mytum.de
DTSTART;TZID=Europe/Berlin:20170223T160000
ORGANIZER;CN="Onurcan Gucukoglu":mailto:ga42mok@tum.de
DTSTAMP:20260421T050616
LAST-MODIFIED:20161111T132521
SUMMARY:Lebensläufe individuell gestalten - Webinar
DESCRIPTION:Machen Sie sich mit den erforderlichen Inhalten eines Lebenslaufs vertraut und lernen Sie, wie Sie dabei Ihre Kompetenzen je nach Stellenausschreibung gut darstellen können. Im Anschluss haben Sie im Chat die Möglichkeit für weitergehende Nachfragen.
CONTACT:Katrin Schächinger
LOCATION:online 
CLASS:PUBLIC
URL;VALUE=URL:https://portal.mytum.de/termine/Event.2016-11-11.1957979693
CREATED:20161111T132521
DTEND;TZID=Europe/Berlin:20170223T170000
END:VEVENT
END:VCALENDAR
