BEGIN:VCALENDAR
PRODID:-//Dr. Thomas Wagner\, TUM WWW & Online Services//myTUM Advanced Calendaring 0.1//DE
VERSION:2.0
METHOD:GET
BEGIN:VTIMEZONE
TZID:Europe/Berlin
BEGIN:STANDARD
DTSTART:20071028T010000
TZOFFSETTO:+0100
TZOFFSETFROM:+0000
TZNAME:CET
END:STANDARD
BEGIN:DAYLIGHT
TZOFFSETTO:+0200
TZOFFSETFROM:+0100
TZNAME:CEST
DTSTART:20080330T020000
END:DAYLIGHT
END:VTIMEZONE
BEGIN:VEVENT
SEQUENCE:1
TRANSP:OPAQUE
UID:termine_Event.2016-06-06.8440463371_portal.mytum.de
DTSTART;TZID=Europe/Berlin:20160704T100000
ORGANIZER;CN="Hannelore Galster":mailto:lore.galster@tum.de
DTSTAMP:20260420T114959
LAST-MODIFIED:20160606T132750
CATEGORIES:WORKSHOP
SUMMARY:Jeder Lebenslauf hat einen roten Faden – man muss ihn nur finden!
DESCRIPTION:Ein Studienfachwechsel, eine lange Studiendauer, Unterbrechungen im Studium oder schlechte Noten stellen für viele Studierende eine Herausforderung in der Kommunikation dar. Im Workshop stellen wir uns dieser Herausforderung und erarbeiten gemeinsam gute Argumente und überzeugende Kommunikationsstrategien.
CONTACT:Susanna March
LOCATION:Campus Innenstadt
CLASS:PUBLIC
URL;VALUE=URL:https://portal.mytum.de/termine/Event.2016-06-06.8440463371
CREATED:20160606T132750
DTEND;TZID=Europe/Berlin:20160704T170000
END:VEVENT
END:VCALENDAR
