BEGIN:VCALENDAR
PRODID:-//Dr. Thomas Wagner\, TUM WWW & Online Services//myTUM Advanced Calendaring 0.1//DE
VERSION:2.0
METHOD:GET
BEGIN:VTIMEZONE
TZID:Europe/Berlin
BEGIN:STANDARD
DTSTART:20071028T010000
TZOFFSETTO:+0100
TZOFFSETFROM:+0000
TZNAME:CET
END:STANDARD
BEGIN:DAYLIGHT
TZOFFSETTO:+0200
TZOFFSETFROM:+0100
TZNAME:CEST
DTSTART:20080330T020000
END:DAYLIGHT
END:VTIMEZONE
BEGIN:VEVENT
SEQUENCE:1
TRANSP:OPAQUE
UID:termine_Event.2016-05-23.4025852452_portal.mytum.de
DTSTART;TZID=Europe/Berlin:20160620T130000
ORGANIZER;CN="Hannelore Galster":mailto:lore.galster@tum.de
DTSTAMP:20260423T111537
LAST-MODIFIED:20160523T160455
CATEGORIES:WORKSHOP
SUMMARY:Networking and Finding the Right Position
DESCRIPTION:In this workshop, you will find out how to research and address people in order to grow a valuable network.
CONTACT:Susanna March
LOCATION:Campus Garching
CLASS:PUBLIC
URL;VALUE=URL:https://portal.mytum.de/termine/Event.2016-05-23.4025852452
CREATED:20160523T160455
DTEND;TZID=Europe/Berlin:20160620T160000
END:VEVENT
END:VCALENDAR
