BEGIN:VCALENDAR
PRODID:-//Dr. Thomas Wagner\, TUM WWW & Online Services//myTUM Advanced Calendaring 0.1//DE
VERSION:2.0
METHOD:GET
BEGIN:VTIMEZONE
TZID:Europe/Berlin
BEGIN:STANDARD
DTSTART:20071028T010000
TZOFFSETTO:+0100
TZOFFSETFROM:+0000
TZNAME:CET
END:STANDARD
BEGIN:DAYLIGHT
TZOFFSETTO:+0200
TZOFFSETFROM:+0100
TZNAME:CEST
DTSTART:20080330T020000
END:DAYLIGHT
END:VTIMEZONE
BEGIN:VEVENT
SEQUENCE:1
TRANSP:OPAQUE
UID:termine_Event.2016-05-13.2766284393_portal.mytum.de
DTSTART;TZID=Europe/Berlin:20160527T123000
ORGANIZER;CN="Andreas Battenberg":mailto:battenberg@tum.de
DTSTAMP:20260421T010549
LAST-MODIFIED:20160513T163242
CATEGORIES:AUSSTELLUNG
SUMMARY:Electric Marathon - Rallye Lviv - Monte Carlo
DESCRIPTION:Am 27. Mai 2016 machen die Fahrzeuge der Rallye Lviv (Ukraine) - Monte Carlo (Monaco) bei uns Station. Ab 12.30 Uhr werden die ersten Elektrofahrzeuge der Rally eintreffen. Eine kleine Siegerehrung für die Etappe Bad Schallerbach - Garching ist für 14.00 Uhr geplant. Außerdem zeigt der Lehrstuhl für Fahrzeugtechnik seine Elektrofahrzeug-Flotte.
CONTACT:Dr. Andreas Battenberg
LOCATION:Boltzmannstr. 11 - Fahrzeughalle des Lehrstuhls für Fahrzeugtechnik
CLASS:PUBLIC
URL;VALUE=URL:https://portal.mytum.de/termine/Event.2016-05-13.2766284393
CREATED:20160513T153718
DTEND;TZID=Europe/Berlin:20160527T160000
END:VEVENT
END:VCALENDAR
