BEGIN:VCALENDAR
PRODID:-//Dr. Thomas Wagner\, TUM WWW & Online Services//myTUM Advanced Calendaring 0.1//DE
VERSION:2.0
METHOD:GET
BEGIN:VTIMEZONE
TZID:Europe/Berlin
BEGIN:STANDARD
DTSTART:20071028T010000
TZOFFSETTO:+0100
TZOFFSETFROM:+0000
TZNAME:CET
END:STANDARD
BEGIN:DAYLIGHT
TZOFFSETTO:+0200
TZOFFSETFROM:+0100
TZNAME:CEST
DTSTART:20080330T020000
END:DAYLIGHT
END:VTIMEZONE
BEGIN:VEVENT
SEQUENCE:1
TRANSP:OPAQUE
UID:termine_Event.2016-04-19.8658815989_portal.mytum.de
DTSTART;TZID=Europe/Berlin:20160427T100000
ORGANIZER;CN="Hannelore Galster":mailto:lore.galster@tum.de
DTSTAMP:20260424T100236
LAST-MODIFIED:20160419T162139
CATEGORIES:WORKSHOP
SUMMARY:Be Successful with Your Application in Germany
DESCRIPTION:The workshop covers the topics of career planning, job search, application strategy, application documents, job interviews and salary negotiations. 
CONTACT:Susanna March
LOCATION:Campus Garching - in English
CLASS:PUBLIC
URL;VALUE=URL:https://portal.mytum.de/termine/Event.2016-04-19.8658815989
CREATED:20160419T162139
DTEND;TZID=Europe/Berlin:20160427T140000
END:VEVENT
END:VCALENDAR
